{
 "currentVersion": 11.3,
 "serviceDescription": "Advan_Foot_Traffic",
 "name": "Advan_Foot_Traffic",
 "description": "",
 "extent": {
  "xmin": 2190027.5877160802,
  "ymin": 1340124.151088573,
  "xmax": 2243427.5877160802,
  "ymax": 1415874.151088573,
  "spatialReference": {
   "wkid": 103028,
   "latestWkid": 6447
  }
 },
 "initialExtent": {
  "xmin": 2190027.5877160802,
  "ymin": 1340124.151088573,
  "xmax": 2243427.5877160802,
  "ymax": 1415874.151088573,
  "spatialReference": {
   "wkid": 103028,
   "latestWkid": 6447
  }
 },
 "fullExtent": {
  "xmin": 2190027.5877160802,
  "ymin": 1340124.151088573,
  "xmax": 2243427.5877160802,
  "ymax": 1415874.151088573,
  "spatialReference": {
   "wkid": 103028,
   "latestWkid": 6447
  }
 },
 "sortableFields": "",
 "bandCount": 1,
 "pixelType": "F32",
 "minValues": [
  93.5991439819336
 ],
 "maxValues": [
  9187.8818359375
 ],
 "meanValues": [
  848.9067183094884
 ],
 "stdvValues": [
  1328.6153910163227
 ],
 "hasMultidimensions": false,
 "pixelSizeX": 150,
 "pixelSizeY": 150,
 "meanPixelSize": 45.720091440182884,
 "datasetFormat": "FGDBR",
 "uncompressedSize": 719120,
 "blockWidth": 128,
 "blockHeight": 128,
 "compressionType": "NONE",
 "bandNames": [
  "Band_1"
 ],
 "allowCopy": true,
 "allowAnalysis": true,
 "itemAccess": false,
 "inspectionCapabilities": "",
 "minPixelSize": 0,
 "maxPixelSize": 0,
 "copyrightText": "",
 "serviceDataType": "esriImageServiceDataTypeGeneric",
 "serviceSourceType": "esriImageServiceSourceTypeDataset",
 "objectIdField": "",
 "fields": [],
 "capabilities": "Image,Metadata,Mensuration",
 "defaultMosaicMethod": "Center",
 "allowedMosaicMethods": "",
 "sortField": "",
 "sortValue": null,
 "sortAscending": true,
 "mosaicOperator": "First",
 "defaultCompressionQuality": 75,
 "defaultResamplingMethod": "Bilinear",
 "maxImageHeight": 4100,
 "maxImageWidth": 15000,
 "allowRasterFunction": true,
 "rasterFunctionInfos": [
  {
   "name": "None",
   "description": "",
   "help": ""
  }
 ],
 "rasterTypeInfos": [
  {
   "name": "Raster Dataset",
   "description": "Supports all ArcGIS Raster Datasets",
   "help": ""
  }
 ],
 "mensurationCapabilities": "Basic",
 "hasHistograms": true,
 "hasColormap": false,
 "hasRasterAttributeTable": false,
 "minScale": 0,
 "maxScale": 0,
 "exportTilesAllowed": false,
 "supportsStatistics": false,
 "supportsAdvancedQueries": false,
 "editFieldsInfo": null,
 "ownershipBasedAccessControlForRasters": null,
 "allowComputeTiePoints": false,
 "useStandardizedQueries": true,
 "advancedQueryCapabilities": {
  "useStandardizedQueries": true,
  "supportsStatistics": false,
  "supportsOrderBy": false,
  "supportsDistinct": false,
  "supportsPagination": false
 },
 "spatialReference": {
  "wkid": 103028,
  "latestWkid": 6447
 }
}
