View In:
ArcGIS JavaScript
ArcGIS Online Map Viewer
ArcGIS Earth
Service Description: Advan_Foot_Traffic
Name: Advan_Foot_Traffic
Description:
Single Fused Map Cache: false
Extent:
XMin: 2190027.5877160802
YMin: 1340124.151088573
XMax: 2243427.5877160802
YMax: 1415874.151088573
Spatial Reference: 103028
(6447)
Initial Extent:
XMin: 2190027.5877160802
YMin: 1340124.151088573
XMax: 2243427.5877160802
YMax: 1415874.151088573
Spatial Reference: 103028
(6447)
Full Extent:
XMin: 2190027.5877160802
YMin: 1340124.151088573
XMax: 2243427.5877160802
YMax: 1415874.151088573
Spatial Reference: 103028
(6447)
Pixel Size X: 150.0
Pixel Size Y: 150.0
Band Count: 1
Pixel Type: F32
RasterFunction Infos: {"rasterFunctionInfos": [{
"name": "None",
"description": "",
"help": ""
}]}
Mensuration Capabilities: Basic
Inspection Capabilities:
Has Histograms: true
Has Colormap: false
Has Multi Dimensions : false
Rendering Rule:
Min Scale: 0
Max Scale: 0
Copyright Text:
Service Data Type: esriImageServiceDataTypeGeneric
Min Values: 93.5991439819336
Max Values: 9187.8818359375
Mean Values: 848.9067183094884
Standard Deviation Values: 1328.6153910163227
Object ID Field:
Fields:
None
Default Mosaic Method: Center
Allowed Mosaic Methods:
SortField:
SortValue: null
Mosaic Operator: First
Default Compression Quality: 75
Default Resampling Method: Bilinear
Max Record Count: null
Max Image Height: 4100
Max Image Width: 15000
Max Download Image Count: null
Max Mosaic Image Count: null
Allow Raster Function: true
Allow Copy: true
Allow Analysis: true
Allow Compute TiePoints: false
Supports Statistics: false
Supports Advanced Queries: false
Use StandardizedQueries: true
Raster Type Infos:
Name: Raster Dataset
Description: Supports all ArcGIS Raster Datasets
Help:
Has Raster Attribute Table: false
Edit Fields Info: null
Ownership Based AccessControl For Rasters: null
Child Resources:
Info
Histograms
Statistics
Key Properties
Legend
Raster Function Infos
Supported Operations:
Export Image
Identify
Measure
Compute Histograms
Compute Statistics Histograms
Get Samples
Compute Class Statistics
Query Boundary
Compute Pixel Location
Compute Angles
Validate
Project